BEGIN:VCALENDAR
PRODID:-//AT Content Types//AT Event//EN
VERSION:1.0
BEGIN:VEVENT
DTSTART:20100518T160000Z
DTEND:20100518T173000Z
DCREATED:20100513T190505Z
UID:ATEvent-4c337c8c2064d47b1e28446528f57e9b
SEQUENCE:0
LAST-MODIFIED:20100513T190631Z
SUMMARY:Závada Pál\: Harminchárom szlovák népmese
DESCRIPTION:Könyvbemutató
LOCATION:Budapest
PRIORITY:3
TRANSP:0
END:VEVENT
END:VCALENDAR
