BEGIN:VCALENDAR
PRODID:-//AT Content Types//AT Event//EN
VERSION:1.0
BEGIN:VEVENT
DTSTART:20160331T160000Z
DTEND:20160331T183000Z
DCREATED:20160323T153143Z
UID:ATEvent-f0223f029d73cbbc95979dc8d1c9ca3b
SEQUENCE:0
LAST-MODIFIED:20160323T153320Z
SUMMARY:Vita – Mit jelent ma az identitás?
DESCRIPTION:A prágai és bécsi és budapesti Francia Intézet közö
 s szervezésében.
LOCATION:Budapest
PRIORITY:3
TRANSP:0
END:VEVENT
END:VCALENDAR
