BEGIN:VCALENDAR
PRODID:-//AT Content Types//AT Event//EN
VERSION:1.0
BEGIN:VEVENT
DTSTART:20181111T122500Z
DTEND:20190331T112500Z
DCREATED:20181010T112722Z
UID:ATEvent-790953c9639eadfd1ce265c8a0fcfc6f
SEQUENCE:0
LAST-MODIFIED:20181010T113424Z
SUMMARY:Világok között – Vajda Lajos élete és művészete
DESCRIPTION:Több mint két évnyi szakmai előkészítést követően
  2018 novemberében megnyílik Szentendrén\, a Ferenczy Múzeumban a 
 Világok között – Vajda Lajos élete és művészete című nagysz
 abású kiállítás.
LOCATION:Szentendre
PRIORITY:3
TRANSP:0
END:VEVENT
END:VCALENDAR
