BEGIN:VCALENDAR
PRODID:-//AT Content Types//AT Event//EN
VERSION:1.0
BEGIN:VEVENT
DTSTART:20130314T170000Z
DTEND:20130519T122500Z
DCREATED:20130310T142612Z
UID:ATEvent-e8193587364e241cb57b8aa1a643f043
SEQUENCE:0
LAST-MODIFIED:20130310T142952Z
SUMMARY:VI. KeresztÃ©ny IkonogrÃ¡fiai BiennÃ¡lÃ© - Angyalok
DESCRIPTION:A KecskemÃ©ti Cifra Palota kortÃ¡rs keresztÃ©ny kiÃ¡llÃ­tÃ
 ¡sa
LOCATION:KecskemÃ©t
PRIORITY:3
TRANSP:0
END:VEVENT
END:VCALENDAR
