BEGIN:VCALENDAR
PRODID:-//AT Content Types//AT Event//EN
VERSION:2.0
METHOD:PUBLISH
BEGIN:VEVENT
DTSTAMP:20260424T093606Z
CREATED:20130311T200453Z
UID:ATEvent-7322a6ebaa23da5ea9be22241331fbac
LAST-MODIFIED:20130311T200527Z
SUMMARY:UTÓPIA - Kassák születésének évfordulójára
DTSTART:20130321T180000Z
DTEND:20130321T210000Z
DESCRIPTION:A magyar avantgárd legnagyobb alakjának születési évf
 ordulóján felidézik Kassák emlékét.
LOCATION:Budapest
CLASS:PUBLIC
END:VEVENT
END:VCALENDAR
