BEGIN:VCALENDAR
PRODID:-//AT Content Types//AT Event//EN
VERSION:2.0
METHOD:PUBLISH
BEGIN:VEVENT
DTSTAMP:20260426T010651Z
CREATED:20100118T115735Z
UID:ATEvent-1396f868953e54bd48fdebb5d34bfd3a
LAST-MODIFIED:20100118T120331Z
SUMMARY:Üdvözlet Debrecennek - Kéri Imre festőművész és rézkarcoló mester kiállítása
DTSTART:20100118T105000Z
DTEND:20100130T170000Z
DESCRIPTION:A Munkácsy-díjas művész kiállítása 2010. január 30
 -ig látogatható
LOCATION:Debrecen
CATEGORIES:hír,kiállítás
CONTACT:Kéri Imre honlapja
URL:http://keri-decsi.hu
CLASS:PUBLIC
END:VEVENT
END:VCALENDAR
