BEGIN:VCALENDAR
PRODID:-//AT Content Types//AT Event//EN
VERSION:2.0
METHOD:PUBLISH
BEGIN:VEVENT
DTSTAMP:20260426T021512Z
CREATED:20170119T082539Z
UID:ATEvent-4e2a67ed7c0285183ca160f36b01f502
LAST-MODIFIED:20170119T082809Z
SUMMARY:Tettek ideje. Lakhatási mozgalmak a 20. században
DTSTART:20170125T170000Z
DTEND:20170402T160000Z
DESCRIPTION:„Mindig csak a szavak\, és megint csak a szavak\, eltan
 ácskozzátok az egész életet. Mikor van itt a tettek ideje\, ha nem
  ilyenkor?!” \n/Kassák Lajos/
LOCATION:Budapest
CATEGORIES:hír,kiállítás
CLASS:PUBLIC
END:VEVENT
END:VCALENDAR
