BEGIN:VCALENDAR
PRODID:-//AT Content Types//AT Event//EN
VERSION:1.0
BEGIN:VEVENT
DTSTART:20131220T183000Z
DTEND:20131220T210000Z
DCREATED:20131205T121634Z
UID:ATEvent-28193189f769f3aa64bd861ee67e7418
SEQUENCE:0
LAST-MODIFIED:20131205T121855Z
SUMMARY:Telemann és Bach - Collegium Musicum 90 és a Purcell Kórus
DESCRIPTION:KARÁCSONYI HANGVERSENY a Bartók Béla Nemzeti Hangversen
 yteremben
LOCATION:Budapest
PRIORITY:3
TRANSP:0
END:VEVENT
END:VCALENDAR
