BEGIN:VCALENDAR
PRODID:-//AT Content Types//AT Event//EN
VERSION:2.0
METHOD:PUBLISH
BEGIN:VEVENT
DTSTAMP:20260426T013821Z
CREATED:20100214T155617Z
UID:ATEvent-20d77f522d9cbbc7638f53e5758170a1
LAST-MODIFIED:20100214T155727Z
SUMMARY:Takács Géza\: Kiútkeresők – Cigányok iskolai reményei
DTSTART:20100216T170000Z
DTEND:20100216T183000Z
LOCATION:Budapest
CATEGORIES:Budapest,hír
CLASS:PUBLIC
END:VEVENT
END:VCALENDAR
