BEGIN:VCALENDAR
PRODID:-//AT Content Types//AT Event//EN
VERSION:1.0
BEGIN:VEVENT
DTSTART:20100731T170000Z
DTEND:20100731T190000Z
DCREATED:20100620T073442Z
UID:ATEvent-4ae9e193dff84d2823946d54b8a9a0fb
SEQUENCE:0
LAST-MODIFIED:20100722T173306Z
SUMMARY:Szvorák Katalin\: VARIÁCIÓK ÉNEKHANGRA
DESCRIPTION:Andrejszki Judit Csembalózik\, orgonál\, énekel\, Pejts
 ik Péter csellózik\, hegedül és megszólal a Szvorák Vokál is\, 
 azaz énekelnek a Zeneakadémia népdaltagozatos növendékei.\nBeveze
 ti\: Kudlik Júlia
LOCATION:Szentendre
PRIORITY:3
TRANSP:0
END:VEVENT
END:VCALENDAR
