BEGIN:VCALENDAR
PRODID:-//AT Content Types//AT Event//EN
VERSION:1.0
BEGIN:VEVENT
DTSTART:20131020T173000Z
DTEND:20131020T193000Z
DCREATED:20131020T102751Z
UID:ATEvent-23758525aff8a9abd0f589af56fb5570
SEQUENCE:0
LAST-MODIFIED:20131020T102801Z
SUMMARY:SzvorÃ¡k Katalin Ã©s Kudlik JÃºlia
DESCRIPTION:Szeretettel cÃ­mÅ± lemez bemutatÃ³ja oktÃ³ber 20-Ã¡n a bud
 avÃ¡ri evangÃ©likus templomban.\nKÃ¶szÃ¶ntÅ‘t mond\: DÃ¶brentey IldikÃ
 ³
LOCATION:Budapest
PRIORITY:3
TRANSP:0
END:VEVENT
END:VCALENDAR
