BEGIN:VCALENDAR
PRODID:-//AT Content Types//AT Event//EN
VERSION:1.0
BEGIN:VEVENT
DTSTART:20130418T160000Z
DTEND:20130418T174500Z
DCREATED:20130416T184912Z
UID:ATEvent-b118caf6e804d05af8b04420fbf89d71
SEQUENCE:0
LAST-MODIFIED:20130416T185055Z
SUMMARY:Szó - Kép (Karafiáth Orsolya és Erdős Virág a Karinthy Szalonban)
DESCRIPTION:Szó - Kép (Karafiáth Orsolya és Erdős Virág a Karint
 hy Szalonban)
LOCATION:Budapest
PRIORITY:3
TRANSP:0
END:VEVENT
END:VCALENDAR
