BEGIN:VCALENDAR
PRODID:-//AT Content Types//AT Event//EN
VERSION:1.0
BEGIN:VEVENT
DTSTART:20150214T140000Z
DTEND:20150214T172500Z
DCREATED:20150208T172448Z
UID:ATEvent-ccb8ac427c9913a7e722c417ccf8d3c1
SEQUENCE:0
LAST-MODIFIED:20150208T172601Z
SUMMARY:Szimpózium a köztéri szobrászatról
DESCRIPTION:Előadás és beszélgetés a FUGÁ-ban
LOCATION:Budapest
PRIORITY:3
TRANSP:0
END:VEVENT
END:VCALENDAR
