BEGIN:VCALENDAR
PRODID:-//AT Content Types//AT Event//EN
VERSION:1.0
BEGIN:VEVENT
DTSTART:20161107T163000Z
DTEND:20161107T180000Z
DCREATED:20161019T050517Z
UID:ATEvent-63928925bb69e9573d05829ffa21ea6a
SEQUENCE:0
LAST-MODIFIED:20161019T050813Z
SUMMARY:Személyes történelem - Zimándi Pius István és Kis Pál naplója
DESCRIPTION:Résztvevők\: Bezsenyi Tamás és Bódi Lóránt történ
 ész PhD-hallgatók valamint Závada Pál író és Schmal Alexandra\,
  a Magvető szerkesztője\; \nModerátor\: K. Horváth Zsolt
LOCATION:Budapest
PRIORITY:3
TRANSP:0
END:VEVENT
END:VCALENDAR
