BEGIN:VCALENDAR
PRODID:-//AT Content Types//AT Event//EN
VERSION:1.0
BEGIN:VEVENT
DTSTART:20110106T173000Z
DTEND:20110106T183000Z
DCREATED:20101228T201123Z
UID:ATEvent-7cf5ee6d37f0c4c3fcbc734b1b163992
SEQUENCE:0
LAST-MODIFIED:20101228T201142Z
SUMMARY:Szabad tér - Barabás Márton kiállítása
DESCRIPTION:A kiállítás csütörtökön 18\:30-kor nyílik. Kísér
 ő esemény\: Mai Magyar Képzőművészet 11. BARABÁS Márton könyv
 bemutató.
LOCATION:Budapest
PRIORITY:3
TRANSP:0
END:VEVENT
END:VCALENDAR
