BEGIN:VCALENDAR
PRODID:-//AT Content Types//AT Event//EN
VERSION:2.0
METHOD:PUBLISH
BEGIN:VEVENT
DTSTAMP:20260426T003930Z
CREATED:20180104T133653Z
UID:ATEvent-1a8e65ac0a91392431f36873d9f62dbe
LAST-MODIFIED:20180104T134131Z
SUMMARY:Schein Gábor Füst Milánról szóló könyvének bemutatója
DTSTART:20180108T170000Z
DTEND:20180108T183500Z
DESCRIPTION:A könyvről Szilágyi Judit és Jánossy Lajos beszélget
  a Petőfi Irodalmi Múzeumban a szerzővel.
LOCATION:Budapest\, PIM
CATEGORIES:Budapest,hír
CLASS:PUBLIC
END:VEVENT
END:VCALENDAR
