BEGIN:VCALENDAR
PRODID:-//AT Content Types//AT Event//EN
VERSION:2.0
METHOD:PUBLISH
BEGIN:VEVENT
DTSTAMP:20260426T012515Z
CREATED:20140821T123245Z
UID:ATEvent-a4ee8e8ed69f6827275439c1ec9034a3
LAST-MODIFIED:20140821T123546Z
SUMMARY:Rembrandt és a holland „arany évszázad” festészete
DTSTART:20141029T133000Z
DTEND:20141221T133000Z
DESCRIPTION:A Szépművészeti Múzeum időszaki kiállítása
LOCATION:Rembrandt és a holland „arany évszázad” festészete
CATEGORIES:Budapest,hír,kiállítás
CLASS:PUBLIC
END:VEVENT
END:VCALENDAR
