BEGIN:VCALENDAR
PRODID:-//AT Content Types//AT Event//EN
VERSION:2.0
METHOD:PUBLISH
BEGIN:VEVENT
DTSTAMP:20260425T231851Z
CREATED:20110513T064916Z
UID:ATEvent-112485ae0b68ef1c0ae0624e48daf566
LAST-MODIFIED:20110513T064937Z
SUMMARY:Rakovszky Zsuzsa VS című új regénye az ÉS-Kvartettben
DTSTART:20110525T170000Z
DTEND:20110525T180000Z
DESCRIPTION:2011. május 25.\, szerda\, 19 órai kezdettel az Írók B
 oltjában
LOCATION:Budapest
CATEGORIES:Budapest,hír
CONTACT:Magvető Kiadó
URL:http://www.magveto.hu
CLASS:PUBLIC
END:VEVENT
END:VCALENDAR
