BEGIN:VCALENDAR
PRODID:-//AT Content Types//AT Event//EN
VERSION:1.0
BEGIN:VEVENT
DTSTART:20180617T165500Z
DTEND:20180630T185500Z
DCREATED:20180610T165702Z
UID:ATEvent-6c205937ef1e4efc8c63a413a4e7f4b6
SEQUENCE:0
LAST-MODIFIED:20180610T165842Z
SUMMARY:PIM Nyári Fesztivál
DESCRIPTION:A Petőfi Irodalmi Múzeum szabadtéri nyári fesztiválja
 
LOCATION:Budapest\, PIM
PRIORITY:3
TRANSP:0
END:VEVENT
END:VCALENDAR
