BEGIN:VCALENDAR
PRODID:-//AT Content Types//AT Event//EN
VERSION:1.0
BEGIN:VEVENT
DTSTART:20130327T160000Z
DTEND:20130327T205500Z
DCREATED:20130323T210353Z
UID:ATEvent-86a0c91eabe0d275d1c54ba085ba5e4d
SEQUENCE:0
LAST-MODIFIED:20130323T210453Z
SUMMARY:PIM Esti Extra - Búcsú az Örkény-kiállítástól + könyvbemutató
DESCRIPTION:PIM Esti Extra - Búcsú az Örkény-kiállítástól
LOCATION:Budapest
PRIORITY:3
TRANSP:0
END:VEVENT
END:VCALENDAR
