BEGIN:VCALENDAR
PRODID:-//AT Content Types//AT Event//EN
VERSION:2.0
METHOD:PUBLISH
BEGIN:VEVENT
DTSTAMP:20260421T154102Z
CREATED:20121014T064112Z
UID:ATEvent-d1026120d964ea6ecd6c7cebe444d3c8
LAST-MODIFIED:20121113T224046Z
SUMMARY:Péreli Zsuzsa Hordozható messzeség című kiállítása
DTSTART:20121018T160000Z
DTEND:20121201T170000Z
DESCRIPTION:Péreli Zsuzsa\nMunkácsy-díjas\, érdemes- és kiváló 
 művész kiállítása a Várnegyed Galériában.\nMeghosszabbítva de
 cember 1-ig!
LOCATION:Budapest
CATEGORIES:hír,kiállítás
CLASS:PUBLIC
END:VEVENT
END:VCALENDAR
