BEGIN:VCALENDAR
PRODID:-//AT Content Types//AT Event//EN
VERSION:2.0
METHOD:PUBLISH
BEGIN:VEVENT
DTSTAMP:20260424T214955Z
CREATED:20120207T062318Z
UID:ATEvent-6851fe21a16250f23b877e3b1773c830
LAST-MODIFIED:20120207T062356Z
SUMMARY:Orgona-párbaj – Karosi Bálint és Sietze de Vries (NL)
DTSTART:20120210T183000Z
DTEND:20120210T210000Z
DESCRIPTION:2012. február 10. 19\:30 - 22\:00 \nBartók Béla Nemzeti
  Hangversenyterem
LOCATION:Budapest
CATEGORIES:Budapest,hír,kiállítás
CONTACT:MÜPA
URL:http://mupa.hu
CLASS:PUBLIC
END:VEVENT
END:VCALENDAR
