BEGIN:VCALENDAR
PRODID:-//AT Content Types//AT Event//EN
VERSION:1.0
BEGIN:VEVENT
DTSTART:20150802T180000Z
DTEND:20150802T192500Z
DCREATED:20150723T072328Z
UID:ATEvent-43a66cbe9bbcb64bb27dd81cb76608a6
SEQUENCE:0
LAST-MODIFIED:20150723T072501Z
SUMMARY:Ökumenikus imaóra a kislétai gyilkosság és a pharrajimos évfordulóján
DESCRIPTION:Sant'Egidio közösség imaórája a pharrajimos és a kis
 létai gyilkosság évfordulóján
LOCATION:Budapest
PRIORITY:3
TRANSP:0
END:VEVENT
END:VCALENDAR
