BEGIN:VCALENDAR
PRODID:-//AT Content Types//AT Event//EN
VERSION:2.0
METHOD:PUBLISH
BEGIN:VEVENT
DTSTAMP:20260425T210632Z
CREATED:20101108T183339Z
UID:ATEvent-430c40dda01883e1d543e679b1721b0a
LAST-MODIFIED:20101108T183402Z
SUMMARY:November végétől látható Budapesten Munkácsy Mihály Krisztus-trilógiája
DTSTART:20101123T133000Z
DTEND:20101125T170000Z
DESCRIPTION:November 23-től 2011. április végéig a Magyar Nemzeti 
 Galériában együtt látható Munkácsy Mihály három legjelentőseb
 b bibliai témájú festménye. A Trilógia Pécsről kerül Budapestr
 e.
LOCATION:Budapest
CATEGORIES:Budapest,hír,kiállítás
CLASS:PUBLIC
END:VEVENT
END:VCALENDAR
