BEGIN:VCALENDAR
PRODID:-//AT Content Types//AT Event//EN
VERSION:1.0
BEGIN:VEVENT
DTSTART:20121012T082000Z
DTEND:20121013T162000Z
DCREATED:20121010T052137Z
UID:ATEvent-f40e1909b02b75be652d2da0bbd32e8b
SEQUENCE:0
LAST-MODIFIED:20121010T052200Z
SUMMARY:Nemzeti identitás a visegrádi országok kortárs kultúrájában
DESCRIPTION:NYILVÁNOS KONFERENCIA ÉS WORKSHOP \nOKTÓBER 12-13.\nMű
 csarnok
LOCATION:Budapest
PRIORITY:3
TRANSP:0
END:VEVENT
END:VCALENDAR
