BEGIN:VCALENDAR
PRODID:-//AT Content Types//AT Event//EN
VERSION:2.0
METHOD:PUBLISH
BEGIN:VEVENT
DTSTAMP:20260426T030651Z
CREATED:20151210T185734Z
UID:ATEvent-21d46bc832b9c772300f0bbdb754c597
LAST-MODIFIED:20160106T093308Z
SUMMARY:Múzeum\: a lassú műfaj
DTSTART:20151214T175500Z
DTEND:20160125T170000Z
DESCRIPTION:a MúzeumCafé kiállítása a Project Roomban
LOCATION:Budapest
CATEGORIES:Budapest,hír,kiállítás
CLASS:PUBLIC
END:VEVENT
END:VCALENDAR
