BEGIN:VCALENDAR
PRODID:-//AT Content Types//AT Event//EN
VERSION:1.0
BEGIN:VEVENT
DTSTART:20130516T160000Z
DTEND:20130516T180000Z
DCREATED:20130511T064417Z
UID:ATEvent-9c98553ac8514ec785b453344be3c8e8
SEQUENCE:0
LAST-MODIFIED:20130511T064453Z
SUMMARY:Matzon Ákos kortárs gyűjteménye
DESCRIPTION:Matzon Ákos Munkácsy-díjas festőművész csak a mai es
 tén kiállítja és bemutatja kortárs\ngyűjteményének kiválaszto
 tt darabjait és
LOCATION:Budapest
PRIORITY:3
TRANSP:0
END:VEVENT
END:VCALENDAR
