BEGIN:VCALENDAR
PRODID:-//AT Content Types//AT Event//EN
VERSION:2.0
METHOD:PUBLISH
BEGIN:VEVENT
DTSTAMP:20260424T022308Z
CREATED:20130924T180116Z
UID:ATEvent-92da5be3f9d084859d3d75b2f75afe54
LAST-MODIFIED:20131011T142016Z
SUMMARY:Matzon Ákos\: Fej vagy/és vitorla
DTSTART:20131015T160000Z
DTEND:20131113T170000Z
DESCRIPTION:Kiállítás a Munkácsy-díjas Matzon Ákos alkotásaibó
 l.
LOCATION:Budapest
CATEGORIES:hír,kiállítás
CLASS:PUBLIC
END:VEVENT
END:VCALENDAR
