BEGIN:VCALENDAR
PRODID:-//AT Content Types//AT Event//EN
VERSION:2.0
METHOD:PUBLISH
BEGIN:VEVENT
DTSTAMP:20260426T013821Z
CREATED:20100531T092242Z
UID:ATEvent-184de52f17b8c77a0d5220ba34ef9321
LAST-MODIFIED:20100531T092406Z
SUMMARY:Martin Munkácsi Intro - háromnapos kiállítás a Ludwig Múzeumban
DTSTART:20100604T080000Z
DTEND:20100606T180000Z
LOCATION:Budapest
CATEGORIES:Budapest,hír
CONTACT:Ludwig Múzeum
URL:http://www.lumu.hu
CLASS:PUBLIC
END:VEVENT
END:VCALENDAR
