BEGIN:VCALENDAR
PRODID:-//AT Content Types//AT Event//EN
VERSION:2.0
METHOD:PUBLISH
BEGIN:VEVENT
DTSTAMP:20260425T210341Z
CREATED:20140309T081705Z
UID:ATEvent-9249fa0757f602f9131d44c78bb61918
LAST-MODIFIED:20140409T091336Z
SUMMARY:Kortárs és szakrális? - NAGY Tamás\, SULYOK Miklós és HAFENSCHER Károly
DTSTART:20140410T160000Z
DTEND:20140410T173000Z
DESCRIPTION:Kortárs és szakrális? Asztali beszélgetések a Ludwig 
 Múzeumban.
LOCATION:Budapest\, LUMU
CATEGORIES:Budapest,hír,Asztali,kiállítás
CLASS:PUBLIC
END:VEVENT
END:VCALENDAR
