BEGIN:VCALENDAR
PRODID:-//AT Content Types//AT Event//EN
VERSION:1.0
BEGIN:VEVENT
DTSTART:20130404T135000Z
DTEND:20130427T160000Z
DCREATED:20130328T135415Z
UID:ATEvent-45c272a9ff62c64b9f1f9b8ae321eb2e
SEQUENCE:0
LAST-MODIFIED:20130331T103941Z
SUMMARY:Kondor Béla kiállítás
DESCRIPTION:Kondor Béla művei a MissionArt Galériában.
LOCATION:Budapest
PRIORITY:3
TRANSP:0
END:VEVENT
END:VCALENDAR
