BEGIN:VCALENDAR
PRODID:-//AT Content Types//AT Event//EN
VERSION:2.0
METHOD:PUBLISH
BEGIN:VEVENT
DTSTAMP:20260424T050406Z
CREATED:20170103T092815Z
UID:ATEvent-abedfe3d77589eefda4d2f32e0826a9b
LAST-MODIFIED:20170103T092831Z
SUMMARY:Kísértetek és kísérletek - Szűcs Attila festészete
DTSTART:20170103T082500Z
DTEND:20170219T170000Z
DESCRIPTION:A Ludwig Múzeumban megrendezett kiállítás a közelmúl
 tra fókuszálva tekinti át Szűcs Attila festői praxisát.
LOCATION:Budapest
CATEGORIES:Budapest,hír,kiállítás
CLASS:PUBLIC
END:VEVENT
END:VCALENDAR
