BEGIN:VCALENDAR
PRODID:-//AT Content Types//AT Event//EN
VERSION:1.0
BEGIN:VEVENT
DTSTART:20121123T173000Z
DTEND:20121123T185000Z
DCREATED:20121119T085340Z
UID:ATEvent-e6583f53a6c228293c239d2a06c24f3c
SEQUENCE:0
LAST-MODIFIED:20121119T085440Z
SUMMARY:Kié a templom? – A pannonhalmi Bazilika felújítása
DESCRIPTION:A beszélgetés résztvevői\:\nHortobágyi Cirill OSB\, a
  Pannonhalmi Bencés Főapátság perjele\,\nGunther Zsolt építészm
 érnök\, az átépítés felelős tervezője és\nRitoók Pál művé
 szettörténész\, a Magyar Építészeti Múzeum munkatársa.\nA besz
 élgetést Martos Gábor\, a MúzeumCafé főszerkesztője vezeti.
LOCATION:Budapest
PRIORITY:3
TRANSP:0
END:VEVENT
END:VCALENDAR
