BEGIN:VCALENDAR
PRODID:-//AT Content Types//AT Event//EN
VERSION:1.0
BEGIN:VEVENT
DTSTART:20100630T160000Z
DTEND:20100630T174000Z
DCREATED:20100606T124242Z
UID:ATEvent-7471d159580878682d6e5b7aa74eeb23
SEQUENCE:0
LAST-MODIFIED:20100606T124433Z
SUMMARY:Kiállításmegnyitó - Orosz István grafikusművész kiállítása
LOCATION:Budapest
PRIORITY:3
TRANSP:0
END:VEVENT
END:VCALENDAR
