BEGIN:VCALENDAR
PRODID:-//AT Content Types//AT Event//EN
VERSION:1.0
BEGIN:VEVENT
DTSTART:20110521T150000Z
DTEND:20110526T160000Z
DCREATED:20110515T052757Z
UID:ATEvent-d65c179e550513ecec11ea6b45b1e096
SEQUENCE:0
LAST-MODIFIED:20110528T191342Z
SUMMARY:Kiállítás Kondor Béla tiszteletére
DESCRIPTION:Kondor Béla tiszteletére kortárs művészek emlékezés
 e a nyolcvan éve született Mesterre
LOCATION:Szentendre
PRIORITY:3
TRANSP:0
END:VEVENT
END:VCALENDAR
