BEGIN:VCALENDAR
PRODID:-//AT Content Types//AT Event//EN
VERSION:1.0
BEGIN:VEVENT
DTSTART:20100308T170000Z
DTEND:20100308T182500Z
DCREATED:20100306T092949Z
UID:ATEvent-90106c3d73c1ba2a0ce62c0084e76c86
SEQUENCE:0
LAST-MODIFIED:20100306T093025Z
SUMMARY:Kertész Imre est
LOCATION:Budapest
PRIORITY:3
TRANSP:0
END:VEVENT
END:VCALENDAR
