BEGIN:VCALENDAR
PRODID:-//AT Content Types//AT Event//EN
VERSION:2.0
METHOD:PUBLISH
BEGIN:VEVENT
DTSTAMP:20260425T225907Z
CREATED:20130510T132059Z
UID:ATEvent-ffca2113eafc1b21499b261072612cb1
LAST-MODIFIED:20130510T132203Z
SUMMARY:Kerekasztal-beszélgetés a mélyszegénységről
DTSTART:20130514T140000Z
DTEND:20130514T152000Z
DESCRIPTION:Ferge Zsuzsa és Vecsei Miklós beszélgetése
LOCATION:Budapest
CATEGORIES:Budapest
CLASS:PUBLIC
END:VEVENT
END:VCALENDAR
