BEGIN:VCALENDAR
PRODID:-//AT Content Types//AT Event//EN
VERSION:1.0
BEGIN:VEVENT
DTSTART:20110228T170000Z
DTEND:20110228T190000Z
DCREATED:20110201T200859Z
UID:ATEvent-76599f9b33b0fa84920c8219e07c6fe1
SEQUENCE:0
LAST-MODIFIED:20110201T201123Z
SUMMARY:Karafiáth Orsi és Lackfi János a szerelemről
DESCRIPTION:A Szent István Társulat ingyenes rendezvénye
LOCATION:Budapest
PRIORITY:3
TRANSP:0
END:VEVENT
END:VCALENDAR
