BEGIN:VCALENDAR
PRODID:-//AT Content Types//AT Event//EN
VERSION:1.0
BEGIN:VEVENT
DTSTART:20141116T170000Z
DTEND:20150104T170000Z
DCREATED:20140930T140444Z
UID:ATEvent-a9767922a3fa2608130d771e9b229b6f
SEQUENCE:0
LAST-MODIFIED:20150103T095318Z
SUMMARY:Imák Auschwitz után - emlékezet-kiállítás Sopronban
DESCRIPTION:A budapesti Rumbach Sebestyén utcai zsinagógában és a 
 győri zsinagógában történt bemutatót követően Sopronban is meg
 tekinthető az emlékezet-kiállítás.
LOCATION:Sopron
PRIORITY:3
TRANSP:0
END:VEVENT
END:VCALENDAR
