BEGIN:VCALENDAR
PRODID:-//AT Content Types//AT Event//EN
VERSION:1.0
BEGIN:VEVENT
DTSTART:20120915T153000Z
DTEND:20120915T164000Z
DCREATED:20120710T104411Z
UID:ATEvent-d38d8b6fec099a2dff379c475a229e49
SEQUENCE:0
LAST-MODIFIED:20120710T104511Z
SUMMARY:Horváth Kornél és Orosz Zoltán Duó koncertje
DESCRIPTION:Zenéjük nehezen sorolható bármely zenei \nkategóriáb
 a\, mivel produkciójukban fellelhetőek a klasszikus\, a jazz és a f
 olk elemei - igazi 21. századi zene.
LOCATION:Budapest
PRIORITY:3
TRANSP:0
END:VEVENT
END:VCALENDAR
