BEGIN:VCALENDAR
PRODID:-//AT Content Types//AT Event//EN
VERSION:2.0
METHOD:PUBLISH
BEGIN:VEVENT
DTSTAMP:20260421T053148Z
CREATED:20120116T195058Z
UID:ATEvent-f5022aea4afa944fa7a3250917958239
LAST-MODIFIED:20120116T195918Z
SUMMARY:Harmati Béla tárlatvezetése Polgár Rózsa életmű-kiállításán
DTSTART:20120219T150000Z
DTEND:20120219T160000Z
DESCRIPTION:Polgár Rózsa Kossuth és Munkácsy-díjas kárpitművés
 z életmű-kiállításának zárónapján férje\, dr. Harmati Béla 
 ny. evangélikus püspök kalauzolja az érdeklődőket az Iparművés
 zeti Múzeumban.
LOCATION:Bp\, Iparművészeti Múzeum
CATEGORIES:Budapest,hír,Asztali,kiállítás
CONTACT:asztali@yahoo.com
URL:http://www.asztali.hu
CLASS:PUBLIC
END:VEVENT
END:VCALENDAR
