BEGIN:VCALENDAR
PRODID:-//AT Content Types//AT Event//EN
VERSION:2.0
METHOD:PUBLISH
BEGIN:VEVENT
DTSTAMP:20260426T040538Z
CREATED:20150331T074818Z
UID:ATEvent-f9c6420fd90e772d420c2160c8dd4320
LAST-MODIFIED:20150427T085642Z
SUMMARY:Harangozó és körmenetelő egyháztól a szegények egyháza felé
DTSTART:20150420T150000Z
DTEND:20150420T170000Z
DESCRIPTION:Kerekasztal-beszélgetés Beer Miklós\, Deák Dániel és
  Laborczi Géza részvételével\, Kamarás István segédletével
LOCATION:Budapest
CATEGORIES:Budapest,hír
CLASS:PUBLIC
END:VEVENT
END:VCALENDAR
