BEGIN:VCALENDAR
PRODID:-//AT Content Types//AT Event//EN
VERSION:1.0
BEGIN:VEVENT
DTSTART:20110728T093500Z
DTEND:20110813T160000Z
DCREATED:20110728T093553Z
UID:ATEvent-e8d5efe4e2b520d1006bd6a6f3f1ae71
SEQUENCE:0
LAST-MODIFIED:20110728T093706Z
SUMMARY:Fehér László kiállítása
DESCRIPTION:Veszprém\, Jezsuita templom\; július 27. (szerda) 16\:30
 - augusztus 13. (szombat)
LOCATION:Veszprém
PRIORITY:3
TRANSP:0
END:VEVENT
END:VCALENDAR
