BEGIN:VCALENDAR
PRODID:-//AT Content Types//AT Event//EN
VERSION:1.0
BEGIN:VEVENT
DTSTART:20171120T160000Z
DTEND:20171120T173000Z
DCREATED:20171113T183200Z
UID:ATEvent-9391254475316778508aaec9912a930e
SEQUENCE:0
LAST-MODIFIED:20171113T183449Z
SUMMARY:Falevelek szélben - Konrád György kötetének bemutatója
DESCRIPTION:Konrád György kötetének bemutatója.
LOCATION:Budapest
PRIORITY:3
TRANSP:0
END:VEVENT
END:VCALENDAR
