BEGIN:VCALENDAR
PRODID:-//AT Content Types//AT Event//EN
VERSION:2.0
METHOD:PUBLISH
BEGIN:VEVENT
DTSTAMP:20260426T023001Z
CREATED:20141223T104042Z
UID:ATEvent-f42b6cbb2f1fdb32f04ce220d6addfc5
LAST-MODIFIED:20141223T104542Z
SUMMARY:Évzáró Összművészeti Party a MODEM-ben
DTSTART:20141227T150000Z
DTEND:20141227T224000Z
DESCRIPTION:December 27-én a MODEM-ben
LOCATION:Debrecen
CATEGORIES:hír
CLASS:PUBLIC
END:VEVENT
END:VCALENDAR
