BEGIN:VCALENDAR
PRODID:-//AT Content Types//AT Event//EN
VERSION:2.0
METHOD:PUBLISH
BEGIN:VEVENT
DTSTAMP:20260425T235916Z
CREATED:20120420T105629Z
UID:ATEvent-a9f49922b089386ce8e6f6f4a986a159
LAST-MODIFIED:20120420T105642Z
SUMMARY:Ã‰nekmaraton BÃ©res JÃ³zsef "SzÃ©p magyar Ã©nek" c. kÃ¶nyvÃ©bÅ‘l
DTSTART:20120422T055500Z
DTEND:20120422T175500Z
DESCRIPTION:ElkÃ©szÃ¼lt BÃ©res JÃ³zsef â€žSzÃ©p magyar Ã©nek" cÃ­mÅ± d
 aloskÃ¶nyvÃ©nek hangos kiadÃ¡sa. A kÃ©t darab mp3 formÃ¡tumÃº CD-n a k
 Ã¶nyvben szereplÅ‘ mind a 430 Ã©nek megtalÃ¡lhatÃ³. A CD-k bemutatÃ³jÃ
 ¡t Ã¡prilis 22-Ã©n vasÃ¡rnap tartjÃ¡k egy Ã©nekmaraton keretÃ©ben
LOCATION:Budapest
CATEGORIES:hÃ­r
CLASS:PUBLIC
END:VEVENT
END:VCALENDAR
