BEGIN:VCALENDAR
PRODID:-//AT Content Types//AT Event//EN
VERSION:2.0
METHOD:PUBLISH
BEGIN:VEVENT
DTSTAMP:20260424T050406Z
CREATED:20140210T133958Z
UID:ATEvent-372bd212471479fc3150576debe6667d
LAST-MODIFIED:20140218T170732Z
SUMMARY:Disputa az emlékezetkultúráról + Ámos Imre tiszteletére írt kéziratok átadása
DTSTART:20140330T130000Z
DTEND:20140330T163500Z
DESCRIPTION:Basics Beatrix kurátor és Romsics Ignác történész - 
  Egy korszak történelmi traumák között avagy az emlékezés tört
 éneti és művészeti aspektusai\;\nHorváth-Hegyi Olivér szentendre
 i evangélikus lelkész és Vajda János\, a szentendrei zsidó hitkö
 zség vezetője - zsidó-kersztény párbeszéd az emlékezetkultúrá
 ról a holokauszt emlékév kapcsán\; Az Ámos Imre és a 20. század
  kortárs összművészeti kiállítás irodalmi kéziratainak átadá
 sa.
LOCATION:Szentendre
CATEGORIES:Budapest,hír,Asztali
CONTACT:asztali@yahoo.com
CLASS:PUBLIC
END:VEVENT
END:VCALENDAR
