BEGIN:VCALENDAR
PRODID:-//AT Content Types//AT Event//EN
VERSION:2.0
METHOD:PUBLISH
BEGIN:VEVENT
DTSTAMP:20260426T040557Z
CREATED:20140409T085149Z
UID:ATEvent-bc08ee22ccaace55c646b3a9b7583d4d
LAST-MODIFIED:20140409T123135Z
SUMMARY:Disputa a mÅ±vÃ©szetrÅ‘l - Konok TamÃ¡s Ã©s TÃ¶lg-MolnÃ¡r ZoltÃ¡n
DTSTART:20140423T160000Z
DTEND:20140423T172000Z
DESCRIPTION:Konok TamÃ¡s Kossuth-dÃ­jas festÅ‘mÅ±vÃ©sz Ã©s TÃ¶lg-MolnÃ
 ¡r ZoltÃ¡n - MunkÃ¡csy-dÃ­jas festÅ‘mÅ±vÃ©sz beszÃ©lgetÃ©se.
LOCATION:Budapest
CATEGORIES:Budapest,hÃ­r,Asztali
CONTACT:asztali@yahoo.com
CLASS:PUBLIC
END:VEVENT
END:VCALENDAR
