BEGIN:VCALENDAR
PRODID:-//AT Content Types//AT Event//EN
VERSION:1.0
BEGIN:VEVENT
DTSTART:20120908T150000Z
DTEND:20121010T160000Z
DCREATED:20120906T052234Z
UID:ATEvent-c8226286a32c8fb435f8a9e4a5f5bfe3
SEQUENCE:0
LAST-MODIFIED:20120906T052644Z
SUMMARY:Czigány Ákos - A művészet fénye című kiállítása
DESCRIPTION:Czigány Ákos (1972) Lucien Hervé és Rodolf Hervé-díj
 as fotóművész. A kétévente kiírásra kerülő díjat 2010-ben Cz
 igány Ákos nyerte el\, Alexis Cordesse francia fotográfussal megosz
 tva.
LOCATION:Székesfehérvár
PRIORITY:3
TRANSP:0
END:VEVENT
END:VCALENDAR
