BEGIN:VCALENDAR
PRODID:-//AT Content Types//AT Event//EN
VERSION:2.0
METHOD:PUBLISH
BEGIN:VEVENT
DTSTAMP:20260421T120016Z
CREATED:20120822T120756Z
UID:ATEvent-2375ad9edcebd46c9678477bbb410c6d
LAST-MODIFIED:20120822T120844Z
SUMMARY:Bródy János\, Spiró György és Ungvári Tamás estje
DTSTART:20120912T170000Z
DTEND:20120912T190500Z
DESCRIPTION:Hadik Irodalmi Szalon vol. 20 - \nHárom tanú - vallomás
 ok a megmaradásról
LOCATION:Budapest
CATEGORIES:hír
CLASS:PUBLIC
END:VEVENT
END:VCALENDAR
